BEGIN:VCALENDAR
VERSION:2.0
PRODID:-//Institut E-Geopolis - ECPv5.1.4//NONSGML v1.0//EN
CALSCALE:GREGORIAN
METHOD:PUBLISH
X-WR-CALNAME:Institut E-Geopolis
X-ORIGINAL-URL:https://e-geopolis.org
X-WR-CALDESC:Évènements pour Institut E-Geopolis
BEGIN:VTIMEZONE
TZID:Europe/Paris
BEGIN:DAYLIGHT
TZOFFSETFROM:+0100
TZOFFSETTO:+0200
TZNAME:CEST
DTSTART:20190331T010000
END:DAYLIGHT
BEGIN:STANDARD
TZOFFSETFROM:+0200
TZOFFSETTO:+0100
TZNAME:CET
DTSTART:20191027T010000
END:STANDARD
END:VTIMEZONE
BEGIN:VEVENT
DTSTART;VALUE=DATE:20191204
DTEND;VALUE=DATE:20191207
DTSTAMP:20260424T191141
CREATED:20190401T082806Z
LAST-MODIFIED:20190401T111143Z
UID:4560-1575417600-1575676799@e-geopolis.org
SUMMARY:3rd International Land Use Symposium "Land use changes: Trends and projections"
DESCRIPTION:\n					\n						\n\nMetropolization: Challenges and Risks: \nCauses and mitigation of urban heat island effects; Hazard and risk modelling; Urban planning and climate change adaptation; Smart city models and energy efficiency; Urban energy transition; Land use and transport management; Measuring socio-spatial inequalities; Assessment and strategies to reduce light pollution; Benefits of green and blue infrastructure; Urban metabolism; Trajectories of cities; Cities as complex systems \n\n\nDrivers\, Mechanisms\, Tools: \nPolitical\, legal\, social\, economic and planning aspects of land use and land cover changes. Monitoring and Evaluation of land use and land cover changes; Mobile App Development; Citizen Knowledge\, Citizen Science; VGI and participation tools in spatial and urban planning \n\n\nVaria: This topic contains free contributions whose topical focus is indirectly related \n\n\n\n\n					\n				\n
URL:https://e-geopolis.org/event/3rd-international-land-use-symposium-land-use-changes-trends-and-projections/
LOCATION:Université Paris Diderot\, 5 Rue Thomas Mann\, Paris\, 75013\, France
CATEGORIES:Evènement E-Geopolis
ATTACH;FMTTYPE=image/jpeg:https://e-geopolis.org/wp-content/uploads/bri-campus-gm_0.jpg
ORGANIZER;CN="The%20Leibniz%20Institute%20of%20Ecological%20Urban%20and%20Regional%20Development%20%28IOER%29":MAILTO:M.Behnisch@ioer.de
END:VEVENT
END:VCALENDAR